{
 "currentVersion": 10.9,
 "cimVersion": "2.7.0",
 "serviceDescription": "",
 "mapName": "Comp Plan",
 "description": "",
 "copyrightText": "Maine Department of Inland Fisheries and Wildlife.",
 "supportsDynamicLayers": false,
 "layers": [
  {
   "id": 0,
   "name": "Co-Occurance Sum Value",
   "parentLayerId": -1,
   "defaultVisibility": true,
   "subLayerIds": null,
   "minScale": 0,
   "maxScale": 0,
   "type": "Raster Layer",
   "supportsDynamicLegends": true
  }
 ],
 "tables": [],
 "spatialReference": {
  "wkid": 102684,
  "latestWkid": 26848,
  "xyTolerance": 0.003280833333333333,
  "zTolerance": 0.003280833333333333,
  "mTolerance": 0.001,
  "falseX": -15495200,
  "falseY": -48378500,
  "xyUnits": 3048.0060960121928,
  "falseZ": -100000,
  "zUnits": 3048.006096012192,
  "falseM": -100000,
  "mUnits": 10000
 },
 "singleFusedMapCache": true,
 "tileInfo": {
  "rows": 256,
  "cols": 256,
  "dpi": 96,
  "format": "Mixed",
  "compressionQuality": 75,
  "origin": {
   "x": -2.9860935456390195E7,
   "y": 1.724925937306145E7
  },
  "spatialReference": {
   "wkid": 102684,
   "latestWkid": 26848,
   "xyTolerance": 0.003280833333333333,
   "zTolerance": 0.003280833333333333,
   "mTolerance": 0.001,
   "falseX": -15495200,
   "falseY": -48378500,
   "xyUnits": 3048.0060960121928,
   "falseZ": -100000,
   "zUnits": 3048.006096012192,
   "falseM": -100000,
   "mUnits": 10000
  },
  "lods": [
   {
    "level": 0,
    "resolution": 256356.9176280484,
    "scale": 2.953237597550312E8
   },
   {
    "level": 1,
    "resolution": 128178.4588140242,
    "scale": 1.476618798775156E8
   },
   {
    "level": 2,
    "resolution": 64089.2294070121,
    "scale": 7.38309399387578E7
   },
   {
    "level": 3,
    "resolution": 32044.61470350605,
    "scale": 3.69154699693789E7
   },
   {
    "level": 4,
    "resolution": 16022.307351753025,
    "scale": 1.845773498468945E7
   },
   {
    "level": 5,
    "resolution": 8011.153675876512,
    "scale": 9228867.492344726
   },
   {
    "level": 6,
    "resolution": 4005.576837938256,
    "scale": 4614433.746172363
   },
   {
    "level": 7,
    "resolution": 2002.788418969128,
    "scale": 2307216.8730861815
   },
   {
    "level": 8,
    "resolution": 1001.394209484564,
    "scale": 1153608.4365430907
   },
   {
    "level": 9,
    "resolution": 500.697104742282,
    "scale": 576804.2182715454
   },
   {
    "level": 10,
    "resolution": 250.348552371141,
    "scale": 288402.1091357727
   },
   {
    "level": 11,
    "resolution": 125.1742761855705,
    "scale": 144201.05456788634
   },
   {
    "level": 12,
    "resolution": 62.58713809278525,
    "scale": 72100.52728394317
   },
   {
    "level": 13,
    "resolution": 31.293569046392626,
    "scale": 36050.263641971585
   },
   {
    "level": 14,
    "resolution": 15.646784523196313,
    "scale": 18025.131820985793
   },
   {
    "level": 15,
    "resolution": 7.823392261598157,
    "scale": 9012.565910492896
   },
   {
    "level": 16,
    "resolution": 3.9116961307990783,
    "scale": 4506.282955246448
   },
   {
    "level": 17,
    "resolution": 1.9558480653995391,
    "scale": 2253.141477623224
   },
   {
    "level": 18,
    "resolution": 0.9779240326997696,
    "scale": 1126.570738811612
   }
  ]
 },
 "initialExtent": {
  "xmin": 2807441.877718265,
  "ymin": 172012.0980409911,
  "xmax": 2967660.620340579,
  "ymax": 281810.41791299765,
  "spatialReference": {
   "wkid": 102684,
   "latestWkid": 26848,
   "xyTolerance": 0.003280833333333333,
   "zTolerance": 0.003280833333333333,
   "mTolerance": 0.001,
   "falseX": -15495200,
   "falseY": -48378500,
   "xyUnits": 3048.0060960121928,
   "falseZ": -100000,
   "zUnits": 3048.006096012192,
   "falseM": -100000,
   "mUnits": 10000
  }
 },
 "fullExtent": {
  "xmin": 2830557.6784374034,
  "ymin": 177002.51871646175,
  "xmax": 2944544.698020664,
  "ymax": 276819.1736782158,
  "spatialReference": {
   "wkid": 102684,
   "latestWkid": 26848,
   "xyTolerance": 0.003280833333333333,
   "zTolerance": 0.003280833333333333,
   "mTolerance": 0.001,
   "falseX": -15495200,
   "falseY": -48378500,
   "xyUnits": 3048.0060960121928,
   "falseZ": -100000,
   "zUnits": 3048.006096012192,
   "falseM": -100000,
   "mUnits": 10000
  }
 },
 "units": "esriFeet",
 "supportedImageFormatTypes": "PNG32,PNG24,PNG,JPG,DIB,TIFF,EMF,PS,PDF,GIF,SVG,SVGZ,BMP",
 "documentInfo": {
  "Title": "Comp Plan",
  "Author": "",
  "Comments": "",
  "Subject": "",
  "Category": "",
  "AntialiasingMode": "Fast",
  "TextAntialiasingMode": "Force",
  "Version": "2.7.0",
  "Keywords": "Beginning with Habitat"
 },
 "supportedQueryFormats": "JSON, geoJSON, PBF",
 "referenceScale": 0.0,
 "datumTransformations": [
  {
   "geoTransforms": [
    {
     "wkid": 108190,
     "latestWkid": 108190,
     "transformForward": true,
     "name": "WGS_1984_(ITRF00)_To_NAD_1983"
    }
   ]
  },
  {
   "geoTransforms": [
    {
     "wkid": 108190,
     "latestWkid": 108190,
     "transformForward": false,
     "name": "WGS_1984_(ITRF00)_To_NAD_1983"
    }
   ]
  }
 ],
 "supportsDatumTransformation": true,
 "archivingInfo": {
  "supportsHistoricMoment": false
 },
 "supportsClipping": true,
 "supportsSpatialFilter": true,
 "supportsQueryDataElements": true,
 "maxRecordCount": 1000,
 "maxImageHeight": 4096,
 "maxImageWidth": 4096,
 "capabilities": "TilesOnly,Tilemap",
 "minScale": 288402.1091357727,
 "maxScale": 1126.570738811612,
 "exportTilesAllowed": false,
 "maxExportTilesCount": 100000,
 "supportedExtensions": "",
 "serviceItemId": "9f0893bfa9c64be9a69727e85a10c9af"
}
